BEGIN:VCALENDAR
PRODID:-//eluceo/ical//2.0/EN
VERSION:2.0
CALSCALE:GREGORIAN
BEGIN:VEVENT
UID:9d297995d26a3b856ca56272cc4ba386
DTSTAMP:20260422T192323Z
SUMMARY:Adult Intro to Judaism Class with Rabbi Davidson at Temple Adath Ye
 shurun
DESCRIPTION:Jewish Federation of New Hampshire\nCommunity Calendar\nhttps:/
 /jewishnh.org/community-calendar/adult-intro-to-judaism-class-with-rabbi-d
 avidson-at-temple-adath-yeshurun-1560684960\n\nWeekly Intro to Judaism Cla
 ss with Rabbi Davidson.\n(No class on 11/25\, 12/23\,12/30\,1/20/20\, 2/10
 /20\,03/09/20.)
DTSTART;TZID=America/New_York:20191021T190000
DTEND;TZID=America/New_York:20191021T203000
END:VEVENT
END:VCALENDAR
