BEGIN:VCALENDAR
PRODID:-//eluceo/ical//2.0/EN
VERSION:2.0
CALSCALE:GREGORIAN
BEGIN:VEVENT
UID:1ca9ce6d10f13b1b1afd538c2f146b3e
DTSTAMP:20260424T180447Z
SUMMARY:Adult Megillah Reading
DESCRIPTION:Jewish Federation of New Hampshire\nCommunity Calendar\nhttps:/
 /jewishnh.org/community-calendar/adult-megillah-reading-1675789427\n\nPuri
 m Study Session
DTSTART;TZID=America/New_York:20230306T190000
DTEND;TZID=America/New_York:20230306T210000
END:VEVENT
END:VCALENDAR
