BEGIN:VCALENDAR
PRODID:-//eluceo/ical//2.0/EN
VERSION:2.0
CALSCALE:GREGORIAN
BEGIN:VEVENT
UID:2989b8959182a0f5ce9837df072b77f4
DTSTAMP:20260422T140339Z
SUMMARY:AIPAC New England Leadership Dinner
DESCRIPTION:Jewish Federation of New Hampshire\nCommunity Calendar\nhttps:/
 /jewishnh.org/community-calendar/aipac-new-england-leadership-dinner-15596
 82620\n\nNOTHING CAN KEEP US APART.\nSO WE ARE STILL COMING TOGETHER...\n\
 nA special program for our pro-Israel community.\n\nJOIN US FOR A LIVE ONL
 INE EXPERIENCE.\nCelebrate the strength of the U.S.-Israel friendship and 
 the vitality of our community from the comfort of your home.\n\nIf you are
  interested in joining\, contact AIPAC at NewEngland@aipac.org for detai
 ls.\n\n 
DTSTART;TZID=America/New_York:20200512T173000
DTEND;TZID=America/New_York:20200512T203000
END:VEVENT
END:VCALENDAR
