BEGIN:VCALENDAR
PRODID:-//eluceo/ical//2.0/EN
VERSION:2.0
CALSCALE:GREGORIAN
BEGIN:VEVENT
UID:5f44699a62329f47901799d895e34698
DTSTAMP:20260422T141459Z
SUMMARY:Alexander Muss High School in Israel Welcoming Teens from NH!
DESCRIPTION:Jewish Federation of New Hampshire\nCommunity Calendar\nhttps:/
 /jewishnh.org/community-calendar/alexander-muss-high-school-in-israel-welc
 oming-teens-from-nh\n\nThanks to the generosity of the Palestrant Family\,
  high school students from New Hampshire are elligible to apply for a gene
 rous scholasrship to attend the Jewish National Fund - USA's Alexander Mus
 s High Shool in Israel\n\nPlease join us for a virtual information session
 .\n\n 
DTSTART;TZID=America/New_York:20230614T200000
DTEND;TZID=America/New_York:20230614T200000
END:VEVENT
END:VCALENDAR
