BEGIN:VCALENDAR
PRODID:-//eluceo/ical//2.0/EN
VERSION:2.0
CALSCALE:GREGORIAN
BEGIN:VEVENT
UID:dd8ce636507e0339e00230eee5f295b0
DTSTAMP:20260424T022715Z
SUMMARY:CANCELLED - Alexander Muss High School Information Session
DESCRIPTION:Jewish Federation of New Hampshire\nCommunity Calendar\nhttps:/
 /jewishnh.org/community-calendar/alexander-muss-high-school-info-session-2
 023\n\n*CANCELLED*\n\nAlexander Muss High School In Israel Family Infor
 mation Session\n\nThanks to the generosity of the Palestrant family\, high
  school students from New Hampshire are eligible to apply for a generous s
 cholarship to attend the Jewish National Fund – USA’s Alexander Muss H
 igh School in Israel. Join us to hear from Dana Klein from JNF about this 
 AMHSI opportunity for NH students. Plus: an activity with JFNH new Shaliac
 h Guy Ben David and FREE pizza dinner! In-person event.\n\nF...
DTSTART;TZID=America/New_York:20231015T173000
DTEND;TZID=America/New_York:20231015T193000
END:VEVENT
END:VCALENDAR
