BEGIN:VCALENDAR
PRODID:-//eluceo/ical//2.0/EN
VERSION:2.0
CALSCALE:GREGORIAN
BEGIN:VEVENT
UID:d52a74c1029a2e8672d4b67076002a8e
DTSTAMP:20260424T095135Z
SUMMARY:Allyson Guertin Discusses JFNH Mission & Activities at Etz Hayim Sy
 nagogue
DESCRIPTION:Jewish Federation of New Hampshire\nCommunity Calendar\nhttps:/
 /jewishnh.org/community-calendar/allyson-guertin-discusses-jfnh-mission-an
 d-activities-1703679182\n\nAllyson Guertin\, Director\, Jewish Federation 
 of New Hampshire will talk about the Jewish Federation of NH\, Allyson Gue
 rtin\, Director. She will describe the JFNH\, its mission\, activities. Th
 e Federation is a voice for the Jews of New Hampshire and in these challen
 ging times\, it needs to be heard. \n\nThe talk is in person at Etz Hayim 
 Synagogue\, 1 ½ Hood Road\, Derry\, NH 03038.  There is no charge\, but d
 onations are encouraged. The presentation is part of Etz Hayim Synagogue
 ’s Adult...
DTSTART;TZID=America/New_York:20240111T190000
DTEND;TZID=America/New_York:20240111T200000
END:VEVENT
END:VCALENDAR
