BEGIN:VCALENDAR
PRODID:-//eluceo/ical//2.0/EN
VERSION:2.0
CALSCALE:GREGORIAN
BEGIN:VEVENT
UID:536af4c01cc5a22e9cd6357d6187271a
DTSTAMP:20260422T070912Z
SUMMARY:"An Evening of Remembrance:  Honoring 'Unsung Heroes' of the Holoca
 ust Era"
DESCRIPTION:Jewish Federation of New Hampshire\nCommunity Calendar\nhttps:/
 /jewishnh.org/community-calendar/an-evening-of-remembrance--honoring-unsun
 g-heroes-of-the-holocaust-era-1581977670\n\nOutdoor Book Signing and Recep
 tion with Sandell Morse\, author of The Spiral Shell\, a book about “Uns
 ung Heroes during the Holocaust era in France.”\n\nPlease RSVP to the Te
 mple Israel Office\n\nAttendance limited to 20 participants.
DTSTART;TZID=America/New_York:20200910T163000
DTEND;TZID=America/New_York:20200910T183000
END:VEVENT
END:VCALENDAR
