BEGIN:VCALENDAR
PRODID:-//eluceo/ical//2.0/EN
VERSION:2.0
CALSCALE:GREGORIAN
BEGIN:VEVENT
UID:e80413bb3f942bea674872bdf875eba6
DTSTAMP:20260424T034937Z
SUMMARY:An Evening on Broadway
DESCRIPTION:Jewish Federation of New Hampshire\nCommunity Calendar\nhttps:/
 /jewishnh.org/community-calendar/an-evening-on-broadway-1665495175\n\nLite
  refreshments served.
DTSTART;TZID=America/New_York:20221112T190000
DTEND;TZID=America/New_York:20221112T220000
END:VEVENT
END:VCALENDAR
