BEGIN:VCALENDAR
PRODID:-//eluceo/ical//2.0/EN
VERSION:2.0
CALSCALE:GREGORIAN
BEGIN:VEVENT
UID:db2248e4ab4775b52114d3b591da37fb
DTSTAMP:20260422T223620Z
SUMMARY:An Introduction to Jewish Mysticism”
DESCRIPTION:Jewish Federation of New Hampshire\nCommunity Calendar\nhttps:/
 /jewishnh.org/community-calendar/an-introduction-to-jewish-mysticism-16109
 90206\n\nThis is part of Etz Hayim Synagogue’s Adult Continuing Educatio
 n Program called  Hot Topics and Cool Contemporary Stuff  This program is 
 Zoomed and to get the Zoom link email  office@etzhayim.org.  More informat
 ion\, please contact: Stephen Soreff\, MD\, at soreffs15@aol.com or 603-89
 5-6120   
DTSTART;TZID=America/New_York:20210131T100000
DTEND;TZID=America/New_York:20210131T140100
END:VEVENT
END:VCALENDAR
