BEGIN:VCALENDAR
PRODID:-//eluceo/ical//2.0/EN
VERSION:2.0
CALSCALE:GREGORIAN
BEGIN:VEVENT
UID:351d1ddb2c4afb5866d9b9d6bc92ebd7
DTSTAMP:20260422T094911Z
SUMMARY:Annual International Holocaust Memorial Day Lecture
DESCRIPTION:Jewish Federation of New Hampshire\nCommunity Calendar\nhttps:/
 /jewishnh.org/community-calendar/annual-international-holocaust-memorial-d
 ay-lecture-1576506581\n\nIn September 1933\, Hitler ordered a memorandum f
 rom Prussia Ministry of the Interior directing German political and legal 
 minds to wrestle with the self-imposed “Jewish Question.” The memo dem
 anded criminalization of racially mixed marriages and specifically cited t
 he American experience as the world leader in white supremacist legislatio
 n. As they started the process that would culminate in the 1935 Nuremberg 
 Laws they began by asking “How did the Americans do it?” Discovering t
 hat...
DTSTART;TZID=America/New_York:20200127T190000
DTEND;TZID=America/New_York:20200127T203000
END:VEVENT
END:VCALENDAR
