BEGIN:VCALENDAR
PRODID:-//eluceo/ical//2.0/EN
VERSION:2.0
CALSCALE:GREGORIAN
BEGIN:VEVENT
UID:acac7039666ce096c9ffe5c6ec7094e8
DTSTAMP:20260424T023538Z
SUMMARY:Temple Israel Annual Menorah Lighting
DESCRIPTION:Jewish Federation of New Hampshire\nCommunity Calendar\nhttps:/
 /jewishnh.org/community-calendar/annual-menorah-lighting-1670412518\n\nAnn
 ual menorah lighting on the patio.
DTSTART;TZID=America/New_York:20221221T164500
DTEND;TZID=America/New_York:20221221T174500
END:VEVENT
END:VCALENDAR
