BEGIN:VCALENDAR
PRODID:-//eluceo/ical//2.0/EN
VERSION:2.0
CALSCALE:GREGORIAN
BEGIN:VEVENT
UID:b1134ea289b56acedf4484e941b4ce69
DTSTAMP:20260423T112355Z
SUMMARY:Annual Wine Tasting
DESCRIPTION:Jewish Federation of New Hampshire\nCommunity Calendar\nhttps:/
 /jewishnh.org/community-calendar/annual-wine-tasting\n\nAnnual Wine Tastin
 g\n7:30 PM\, Etz Hayim Synagogue\, Derry
DTSTART;TZID=America/New_York:20180506T193000
DTEND;TZID=America/New_York:20180506T213000
END:VEVENT
END:VCALENDAR
