BEGIN:VCALENDAR
PRODID:-//eluceo/ical//2.0/EN
VERSION:2.0
CALSCALE:GREGORIAN
BEGIN:VEVENT
UID:d3ebda5f0e45367964b62f3b57d677dd
DTSTAMP:20260422T061307Z
SUMMARY:Anti-Defamation League Presents Words to Action
DESCRIPTION:Jewish Federation of New Hampshire\nCommunity Calendar\nhttps:/
 /jewishnh.org/community-calendar/anti-defamation-leauge-presents-words-to-
 action\n\nThis program is approximately two-hours\, geared for students in
  middle and high school (ages 12 -17). The program is designed to help stu
 dents increase their understanding of anti-Semitism and the way it manifes
 ts itself\, including anti-Semitism that is fueled by anti-Israel sentimen
 t\; increase their awareness of incidents of anti-Semitism in their enviro
 nment\; improve their ability to address specific incidents of anti-Semiti
 sm and/or anti-Israel bias and to select appropriate responses\; dev...
DTSTART;TZID=America/New_York:20191117T150000
DTEND;TZID=America/New_York:20191117T170000
END:VEVENT
END:VCALENDAR
