BEGIN:VCALENDAR
PRODID:-//eluceo/ical//2.0/EN
VERSION:2.0
CALSCALE:GREGORIAN
BEGIN:VEVENT
UID:1b022b8144f5ed724883dbedcc9ab482
DTSTAMP:20260422T231104Z
SUMMARY:Antisemitic Microaggressions:   What They Are and How to Respond?
DESCRIPTION:Jewish Federation of New Hampshire\nCommunity Calendar\nhttps:/
 /jewishnh.org/community-calendar/antisemitic-microaggressions---what-they-
 are-and-how-to-respond-1699020482\n\nThe Teen Antisemtism Task Force invit
 es high school teens of all faiths and backgrounds to our next meeting wit
 h guest speaker Danika Manso-Brown for a program on Antisemitic Microaggre
 ssions : What They Are And How to Respond\,\nTuesday\, November 14\, 2023\
 n7:30 p.m. – 8:30 p.m. ET on Zoom\nThe program is free.\n\nREGISTER HERE
  FOR THE ZOOM LINK\nhttps://lappinfoundation.formtitan.com/ftproject/teenp
 rogram?campaignid=7018X000001aqCmQAI\n\nFor more information\, email dcolt
 in@lappinfoundation....
DTSTART;TZID=America/New_York:20231114T193000
DTEND;TZID=America/New_York:20231114T203000
END:VEVENT
END:VCALENDAR
