BEGIN:VCALENDAR
PRODID:-//eluceo/ical//2.0/EN
VERSION:2.0
CALSCALE:GREGORIAN
BEGIN:VEVENT
UID:424f8be4c02db87d0a4e24cadec9358a
DTSTAMP:20260424T000108Z
SUMMARY:Antisemitism & Anti-Zionism Worldwide
DESCRIPTION:Jewish Federation of New Hampshire\nCommunity Calendar\nhttps:/
 /jewishnh.org/community-calendar/antisemitism--anti-zionism-worldwide-1708
 357966\n\nIdo Aharoni will explain how Anti-Zionism became the new antisem
 itism and will discuss the rise of Jew-hatred in the age of information ov
 erload. The recording will be available to everyone who registers for the 
 program. For more information\, contact Sharon Wyner at 978-565-4450 or em
 ail swyner@lappinfoundation.org. The program is free\, and everyone is wel
 come.\n\nREGISTER at https://lappinfoundation.tfaforms.net/78
DTSTART;TZID=America/New_York:20240408T190000
DTEND;TZID=America/New_York:20240408T200000
END:VEVENT
END:VCALENDAR
