BEGIN:VCALENDAR
PRODID:-//eluceo/ical//2.0/EN
VERSION:2.0
CALSCALE:GREGORIAN
BEGIN:VEVENT
UID:6b4829c6e1efe846a82f325f68b41c8e
DTSTAMP:20260424T203440Z
SUMMARY:Aravrit: Once Script\, Two Languages
DESCRIPTION:Jewish Federation of New Hampshire\nCommunity Calendar\nhttps:/
 /jewishnh.org/community-calendar/aravrit-once-script-two-languages\n\nThis
  talk is about letters and words and mostly about life and opportunities. 
 It is a story of utopian nature which presents a new writing system: Aravi
 t\, hybrid letters merging Hebrew and Arabic.\n\nPresented by past New Ham
 pshire Shlicha Liron Lavi Turkenich! Liron is now an independent typeface 
 designer and researcher based in Israel.\n\nRegister in advance https://us
 02web.zoom.us/meeting/register/tZIvcO2hrzovEty0vi45XabSKJMXfmN120Cj\nYou w
 ill receive a confirmation email with the Zoom lin...
DTSTART;TZID=America/New_York:20200719T140000
DTEND;TZID=America/New_York:20200719T160000
END:VEVENT
END:VCALENDAR
