BEGIN:VCALENDAR
PRODID:-//eluceo/ical//2.0/EN
VERSION:2.0
CALSCALE:GREGORIAN
BEGIN:VEVENT
UID:d2fec95a9ce932f5398b0556b03e9401
DTSTAMP:20260423T174356Z
SUMMARY:Art in the Park with Shlicha Avia Sagron
DESCRIPTION:Jewish Federation of New Hampshire\nCommunity Calendar\nhttps:/
 /jewishnh.org/community-calendar/art-in-the-park-with-shlicha-avia-sagron\
 n\nJoin Shlicha Avia Sagron and paint your own honey pot just in time for 
 Rosh Hashanah!\n\n$18/person\n\nMasks will be required and space is limite
 d in order to adhere to social distancing.\n\nMore information coming soon
 . 
DTSTART;TZID=America/New_York:20200913T100000
DTEND;TZID=America/New_York:20200913T100000
END:VEVENT
END:VCALENDAR
