BEGIN:VCALENDAR
PRODID:-//eluceo/ical//2.0/EN
VERSION:2.0
CALSCALE:GREGORIAN
BEGIN:VEVENT
UID:3afa9a31722026e2e05c758cf2dd2dc5
DTSTAMP:20260423T082551Z
SUMMARY:Articles Club: Jewish Pride
DESCRIPTION:Jewish Federation of New Hampshire\nCommunity Calendar\nhttps:/
 /jewishnh.org/community-calendar/article-club\n\nPlease Join our Fun Artic
 les Club\n\nYou’ll meet people\, read an article or two\, \n\nand share 
 your ideas and experiences. \n\n \n\nThe Jewish Federation of New Hampshi
 re’s Antisemitism and Diversity Committee is excited to announce the for
 mation of a new Articles Club.  What is an articles club?  It’s friend
 s and acquaintances getting together – at this point\, via Zoom – to t
 alk about an article we’ve read or a video we’ve watched.  It’s jus
 t like a book club\, except it i...
DTSTART;TZID=America/New_York:20220109T190000
DTEND;TZID=America/New_York:20220109T203000
END:VEVENT
END:VCALENDAR
