BEGIN:VCALENDAR
PRODID:-//eluceo/ical//2.0/EN
VERSION:2.0
CALSCALE:GREGORIAN
BEGIN:VEVENT
UID:e9f5667b434b58fe1297ed5cc7b4a0bc
DTSTAMP:20260423T033500Z
SUMMARY:Articles Club: Diversity
DESCRIPTION:Jewish Federation of New Hampshire\nCommunity Calendar\nhttps:/
 /jewishnh.org/community-calendar/articles-club-diversity\n\nHaving trouble
  joining? Need the Zoom link resent? Email Dinah Berch\n\n \n\nPlease Joi
 n our Fun Articles Club\n\nYou’ll meet people\, read an article or two\,
  \n\nand share your ideas and experiences. \n\n \n\nThe Jewish Federation
  of New Hampshire’s Antisemitism and Diversity Committee is excited to a
 nnounce the formation of a new Articles Club.  What is an articles club?
   It’s friends and acquaintances getting together – at this point\, v
 ia Zoom – to talk about an article we’v...
DTSTART;TZID=America/New_York:20220217T190000
DTEND;TZID=America/New_York:20220217T203000
END:VEVENT
END:VCALENDAR
