BEGIN:VCALENDAR
PRODID:-//eluceo/ical//2.0/EN
VERSION:2.0
CALSCALE:GREGORIAN
BEGIN:VEVENT
UID:529762e987375276aa80787637642196
DTSTAMP:20260424T061749Z
SUMMARY:Artist talk: Carl Austin Hyatt
DESCRIPTION:Jewish Federation of New Hampshire\nCommunity Calendar\nhttps:/
 /jewishnh.org/community-calendar/artist-talk-carl-austin-hyatt-1618527120\
 n\nJoin us for an artist talk with Portsmouth photographer and 2020 Piscat
 aqua Region Artist Advancement Grant award winner Carl Austin Hyatt. Hyatt
  is known for his large-format gelatin silver and platinum prints of lands
 capes and portraits. Hyatt’s extensive travel to Peru and South Africa t
 aught him about the sacred quality of stone while studying with indigenous
  cultures\, in particular shamans who worked to tap the healing and spirit
 ual qualities of stones. This award allowed Hyatt to spen...
DTSTART;TZID=America/New_York:20210421T000000
DTEND;TZID=America/New_York:20210421T000000
END:VEVENT
END:VCALENDAR
