BEGIN:VCALENDAR
PRODID:-//eluceo/ical//2.0/EN
VERSION:2.0
CALSCALE:GREGORIAN
BEGIN:VEVENT
UID:4f8afd2913ecf2637c1ed9406f5545db
DTSTAMP:20260422T220740Z
SUMMARY:Aryoloka Concert
DESCRIPTION:Jewish Federation of New Hampshire\nCommunity Calendar\nhttps:/
 /jewishnh.org/community-calendar/aryoloka-concert-1553790312\n\nAryoloka C
 oncert at 7pm\nTemple Adath Yeshurun\n152 Prospect St.\nManchester\, NH 03
 104
DTSTART;TZID=America/New_York:20190511T190000
DTEND;TZID=America/New_York:20190511T210000
END:VEVENT
END:VCALENDAR
