BEGIN:VCALENDAR
PRODID:-//eluceo/ical//2.0/EN
VERSION:2.0
CALSCALE:GREGORIAN
BEGIN:VEVENT
UID:970e7feb26e98ef27177402e985a0b85
DTSTAMP:20260423T215619Z
SUMMARY:Temple Israel Asara B'tevet Service
DESCRIPTION:Jewish Federation of New Hampshire\nCommunity Calendar\nhttps:/
 /jewishnh.org/community-calendar/asara-btevet-service-1575486168\n\nMornin
 g service
DTSTART;TZID=America/New_York:20200107T070000
DTEND;TZID=America/New_York:20200107T090000
END:VEVENT
END:VCALENDAR
