BEGIN:VCALENDAR
PRODID:-//eluceo/ical//2.0/EN
VERSION:2.0
CALSCALE:GREGORIAN
BEGIN:VEVENT
UID:ce28c6e9edd9ec61f0332763a9266391
DTSTAMP:20260423T204829Z
SUMMARY:Ashkenazi Jewish Cuisine: Beyond the Bagel
DESCRIPTION:Jewish Federation of New Hampshire\nCommunity Calendar\nhttps:/
 /jewishnh.org/community-calendar/ashkenazi-jewish-cuisine-beyond-the-bagel
 -1698077266\n\nAll Upcoming Courses On Jewish Healing Practices\n\nAshkena
 zi Jewish Herbalism: More Than Chicken Soup\nOctober 26   6:30- 8:00 EST\,
   Zoom\, Recording of class will be available\n\nAshkenazi Jewish Cuisine:
  Beyond the Bagel\nNov. 2: 6:30- 8:00 EST\, Zoom\,  Recording of class wil
 l be available\n\nAshkenazi Jewish Meditation\, Mussar and Spirit: \nMore 
 than Prayer\nNov. 9: 6:30- 8:00 EST\, Zoom\,   Recording of class will be 
 available \n\nAshkenazi Herbal Medicine: More than a Cup of Tea\nNov. 16:.
 ..
DTSTART;TZID=America/New_York:20231102T183000
DTEND;TZID=America/New_York:20231102T200000
END:VEVENT
END:VCALENDAR
