BEGIN:VCALENDAR
PRODID:-//eluceo/ical//2.0/EN
VERSION:2.0
CALSCALE:GREGORIAN
BEGIN:VEVENT
UID:afeca1a2cda4fbccb343100e1d667ea6
DTSTAMP:20260422T030646Z
SUMMARY:Ashkenazi Jewish Herbalism: More Than Chicken Soup
DESCRIPTION:Jewish Federation of New Hampshire\nCommunity Calendar\nhttps:/
 /jewishnh.org/community-calendar/ashkenazi-jewish-herbalism-more-than-chic
 ken-soup-1698077649\n\nUpcoming Series On Jewish Healing Practices\n\nAshk
 enazi Jewish Herbalism: More Than Chicken Soup\nOctober 26   6:30- 8:00 ES
 T\,  Zoom\, Recording of class will be available\n\nAshkenazi Jewish Cuisi
 ne: Beyond the Bagel\nNov. 2: 6:30- 8:00 EST\, Zoom\,  Recording of class 
 will be available\n\nAshkenazi Jewish Meditation\, Mussar and Spirit: \nMo
 re than Prayer\nNov. 9: 6:30- 8:00 EST\, Zoom\,   Recording of class will 
 be available \n\nAshkenazi Herbal Medicine: More than a Cup of Tea\nNov. 1
 6: 6:30-...
DTSTART;TZID=America/New_York:20231026T183000
DTEND;TZID=America/New_York:20231026T200000
END:VEVENT
END:VCALENDAR
