BEGIN:VCALENDAR
PRODID:-//eluceo/ical//2.0/EN
VERSION:2.0
CALSCALE:GREGORIAN
BEGIN:VEVENT
UID:185d0bff0d939eb9f084232393b04e6e
DTSTAMP:20260422T120821Z
SUMMARY:Ashkenazi Jewish Meditation\, Mussar and Spirit:  More than Prayer
DESCRIPTION:Jewish Federation of New Hampshire\nCommunity Calendar\nhttps:/
 /jewishnh.org/community-calendar/ashkenazi-jewish-meditation-mussar-and-sp
 irit--more-than-prayer-1698078779\n\nSeries on Traditional Jewish Health P
 ractices\n\nThese zoom courses are for anyone curious about traditional Je
 wish Healing practices. We’ll be  looking at them from  a traditional vi
 ew in a 21st century context. Come join the conversation!\n\nAshkenazi Jew
 ish Herbalism: More Than Chicken Soup\nOctober 26   6:30- 8:00 EST\, Zoom\
 ,  Recording of class will be available\n\nAshkenazi Jewish Cuisine: Beyon
 d the Bagel\nNovember 2\, 6:30- 8:00 EST\, Zoom\,  Recording of class will
  be...
DTSTART;TZID=America/New_York:20231109T183000
DTEND;TZID=America/New_York:20231109T200000
END:VEVENT
END:VCALENDAR
