BEGIN:VCALENDAR
PRODID:-//eluceo/ical//2.0/EN
VERSION:2.0
CALSCALE:GREGORIAN
BEGIN:VEVENT
UID:58291f0e77269b93d41f4b0703a50f83
DTSTAMP:20260423T155913Z
SUMMARY:Avodah Shebalev Medidation
DESCRIPTION:Jewish Federation of New Hampshire\nCommunity Calendar\nhttps:/
 /jewishnh.org/community-calendar/avodah-shebalev-medidation-1565715057\n\n
 Avodah Shebalev means “Service of the Heart.” When we tend to our own 
 hearts\, we feel more clear\, more open\, more loving\, compassionate\, pa
 tient and at ease so that we are better prepared to serve our families\, f
 riends\, community and the world as a whole. For the past six years or so\
 , a dedicated group of companions have met with me twice a month at 9:30 a
 .m. in the chapel to learn a little Torah\, allowing her wisdom to inspire
  us as we sit together practicing mindfulness meditation. We a...
DTSTART;TZID=America/New_York:20190925T093000
DTEND;TZID=America/New_York:20190925T103000
END:VEVENT
END:VCALENDAR
