BEGIN:VCALENDAR
PRODID:-//eluceo/ical//2.0/EN
VERSION:2.0
CALSCALE:GREGORIAN
BEGIN:VEVENT
UID:3c21c7e637fbb18b97186039c8e6e3cd
DTSTAMP:20260422T050602Z
SUMMARY:Avodah Shebalev Medidiation
DESCRIPTION:Jewish Federation of New Hampshire\nCommunity Calendar\nhttps:/
 /jewishnh.org/community-calendar/avodah-shebalev-medidiation-1565714944\n\
 nAvodah Shebalev means “Service of the Heart.” When we tend to our own
  hearts\, we feel more clear\, more open\, more loving\, compassionate\, p
 atient and at ease so that we are better prepared to serve our families\, 
 friends\, community and the world as a whole. For the past six years or so
 \, a dedicated group of companions have met with me twice a month at 9:30 
 a.m. in the chapel to learn a little Torah\, allowing her wisdom to inspir
 e us as we sit together practicing mindfulness meditation. We a...
DTSTART;TZID=America/New_York:20190828T093000
DTEND;TZID=America/New_York:20190828T103000
END:VEVENT
END:VCALENDAR
