BEGIN:VCALENDAR
PRODID:-//eluceo/ical//2.0/EN
VERSION:2.0
CALSCALE:GREGORIAN
BEGIN:VEVENT
UID:3e5690c6c75ab8d50c7157f06e71d5ac
DTSTAMP:20260423T143433Z
SUMMARY:Avodah Shebalev Meditation
DESCRIPTION:Jewish Federation of New Hampshire\nCommunity Calendar\nhttps:/
 /jewishnh.org/community-calendar/avodah-shebalev-meditation-1565715006\n\n
 Avodah Shebalev means “Service of the Heart.” When we tend to our own 
 hearts\, we feel more clear\, more open\, more loving\, compassionate\, pa
 tient and at ease so that we are better prepared to serve our families\, f
 riends\, community and the world as a whole. For the past six years or so\
 , a dedicated group of companions have met with me twice a month at 9:30 a
 .m. in the chapel to learn a little Torah\, allowing her wisdom to inspire
  us as we sit together practicing mindfulness meditation. We a...
DTSTART;TZID=America/New_York:20190911T093000
DTEND;TZID=America/New_York:20190911T103000
END:VEVENT
END:VCALENDAR
