BEGIN:VCALENDAR
PRODID:-//eluceo/ical//2.0/EN
VERSION:2.0
CALSCALE:GREGORIAN
BEGIN:VEVENT
UID:0665bcbd5a0d52b778c0f6f53d40c6c9
DTSTAMP:20260423T202724Z
SUMMARY:Baby Playgroup and Parent Gathering
DESCRIPTION:Jewish Federation of New Hampshire\nCommunity Calendar\nhttps:/
 /jewishnh.org/community-calendar/baby-playgroup-and-parent-gathering\n\nJo
 in me on Tuesday\, October 14th at 10:30am for a baby playgroup.\n\nChildr
 en will be occupied with toys and Israeli flag crafts while we take time t
 o chat and support each other.\n\nCoffee\, tea\, children's pouches and li
 ght snacks will be provided.\n\n 
DTSTART;TZID=America/New_York:20231017T103000
DTEND;TZID=America/New_York:20231017T113000
END:VEVENT
END:VCALENDAR
