BEGIN:VCALENDAR
PRODID:-//eluceo/ical//2.0/EN
VERSION:2.0
CALSCALE:GREGORIAN
BEGIN:VEVENT
UID:3e8f146871456f29efd1d23f42ee9e1d
DTSTAMP:20260422T121758Z
SUMMARY:Baby Playgroup at JFNH
DESCRIPTION:Jewish Federation of New Hampshire\nCommunity Calendar\nhttps:/
 /jewishnh.org/community-calendar/baby-playgroup-at-jfnh\n\nMeet other fami
 lies with young children and grow your community!\n\nBe a part of our mont
 hly playgroup!\n\nOpen to families with children 0-5. \n.......\nMonthly 
 on the third Thursday\, beginning October 20th ~ 10AM\nJFNH Office\, 273 S
 outh River Road\, Unit #5\, Bedford\, NH \n\n\nContact Dinah at dinah.be
 rch@jewishnh.org or 603-627-7679 with questions
DTSTART;TZID=America/New_York:20221020T100000
DTEND;TZID=America/New_York:20221020T110000
END:VEVENT
END:VCALENDAR
