BEGIN:VCALENDAR
PRODID:-//eluceo/ical//2.0/EN
VERSION:2.0
CALSCALE:GREGORIAN
BEGIN:VEVENT
UID:6998066b627b10b88cbee42953bf9c1f
DTSTAMP:20260422T122416Z
SUMMARY:Back to Shul Fest
DESCRIPTION:Jewish Federation of New Hampshire\nCommunity Calendar\nhttps:/
 /jewishnh.org/community-calendar/back-to-shul-fest-1689015152\n\nJoin Temp
 le Israel Portsmouth and a few hundred of your best friends at the big fie
 ld at Strawbery Banke for an afternoon of music\, food\, games! Featuring 
 live music by Jewish bluegrass sensation\, Jacob's Ladder\, a kosher lunch
 \, and free games and activities with everything from face painting to car
 d making\, and (maybe even) a dunk tank!\n\nWhether you're a lifelong memb
 er of the tribe or this if your first time at a Jewish event\, ALL are wel
 come to attend. Come celebrate over a century of Je...
DTSTART;TZID=America/New_York:20230827T120000
DTEND;TZID=America/New_York:20230827T150000
END:VEVENT
END:VCALENDAR
