BEGIN:VCALENDAR
PRODID:-//eluceo/ical//2.0/EN
VERSION:2.0
CALSCALE:GREGORIAN
BEGIN:VEVENT
UID:2d9209b5a489055271f520bf65f4cb2c
DTSTAMP:20260423T033602Z
SUMMARY:Temple Beth Abraham Backyard Fun
DESCRIPTION:Jewish Federation of New Hampshire\nCommunity Calendar\nhttps:/
 /jewishnh.org/community-calendar/backyard-fun-1657822581\n\nLet's bring ou
 r children together to play at a community member's backyard! This is a so
 cial event for families with young children.  Located in the Nashua\, NH a
 rea (exact address will be shared upon RSVP) Best for children ages 0-4. \
 nRSVP to Sarit Ferreira: sarit@tbanashua.org\n\n
DTSTART;TZID=America/New_York:20220821T103000
DTEND;TZID=America/New_York:20220821T113000
END:VEVENT
END:VCALENDAR
