BEGIN:VCALENDAR
PRODID:-//eluceo/ical//2.0/EN
VERSION:2.0
CALSCALE:GREGORIAN
BEGIN:VEVENT
UID:7406c8b9a2767d065d50c0454d860c8d
DTSTAMP:20260422T051018Z
SUMMARY:Etz Hayim Synagogue hosts Bagel Brunch with Bob Korkuc
DESCRIPTION:Jewish Federation of New Hampshire\nCommunity Calendar\nhttps:/
 /jewishnh.org/community-calendar/bagel-brunch-with-bob-korkuc-1697722546\n
 \nBagel Brunch with a presentation by Bob Korkuc\, author of Finding a Fal
 len Hero\, The Death of a Ball Turret Gunner.  To all appearances\, Anthon
 y "Tony" Korkuc was just another casualty of World War II.   $5 for non-me
 mbers.  RSVP required: https://www.signupgenius.com/go/805094CAFA62CA31-44
 353413-bagel
DTSTART;TZID=America/New_York:20231112T093000
DTEND;TZID=America/New_York:20231112T113000
END:VEVENT
END:VCALENDAR
