BEGIN:VCALENDAR
PRODID:-//eluceo/ical//2.0/EN
VERSION:2.0
CALSCALE:GREGORIAN
BEGIN:VEVENT
UID:3f8a6ebb9bc278fac97268d4b3bbc31c
DTSTAMP:20260422T093956Z
SUMMARY:Bagels and Biscuits 5K
DESCRIPTION:Jewish Federation of New Hampshire\nCommunity Calendar\nhttps:/
 /jewishnh.org/community-calendar/bagels-and-biscuits-5k-1553792748\n\nThe 
 6th Annual Bagels and Biscuits 5k Road Race will be held at Derryfield Par
 k on Sunday\, June 2nd.\nCome to support two great causes and bring your f
 amily\, friends\, neighbors\, co-workers and \nwell behaved dogs on leashe
 s!\nPrizes\, Fun\, Food and Games!  Free kids activity station.\nFor more 
 information and to register go to our website at www.bagelsandbiscuits5k.c
 om\nYou may also register on race day for an additional $5.00 fee\,  pleas
 e arrive early.\nPre-registration costs: kids 12 and...
DTSTART;TZID=America/New_York:20190602T090000
DTEND;TZID=America/New_York:20190602T110000
END:VEVENT
END:VCALENDAR
