BEGIN:VCALENDAR
PRODID:-//eluceo/ical//2.0/EN
VERSION:2.0
CALSCALE:GREGORIAN
BEGIN:VEVENT
UID:f731cc54dd95753795ff833d5604ef9b
DTSTAMP:20260423T135501Z
SUMMARY:BBQ and Barchu
DESCRIPTION:Jewish Federation of New Hampshire\nCommunity Calendar\nhttps:/
 /jewishnh.org/community-calendar/bbq-and-barchu\n\n5:30 PM Pre-Shabbat Bar
 becue\, 7 PM Outdoor Shabbat Evening Service\n\n$8 per adult\, $4 per chil
 d\, free for ages 5 and under\n\nCome anytime from 5:30 on for a pre-Shabb
 at barbecue with Jewish music in the background.  Stay for candlelighting
  and a rousing\, singing Shabbat evening service outside\, followed by Sha
 bbat table rituals (kiddush and motzi blessings) and dessert. Invite frien
 ds! RSVP by Wednesday of each week at tbanashua.org or (603) 883-8184 No R
 SVP necessary for services.\n\n 
DTSTART;TZID=America/New_York:20180713T173000
DTEND;TZID=America/New_York:20180713T200000
END:VEVENT
END:VCALENDAR
