BEGIN:VCALENDAR
PRODID:-//eluceo/ical//2.0/EN
VERSION:2.0
CALSCALE:GREGORIAN
BEGIN:VEVENT
UID:018565598d4df8a128b42d96b1eb7a31
DTSTAMP:20260422T180240Z
SUMMARY:BBQ and Barchu
DESCRIPTION:Jewish Federation of New Hampshire\nCommunity Calendar\nhttps:/
 /jewishnh.org/community-calendar/bbq-and-barchu2\n\n5:30 PM Pre-Shabbat Ba
 rbecue 7 PM Outdoor Shabbat Evening Service\n\n$8 per adult\, $4 per child
 \, free for ages 5 and under\,\n\nCome anytime from 5:30 on for a pre-Shab
 bat barbecue with Jewish music in the background.  Stay for candlelightin
 g and a rousing\, singing Shabbat evening service outside\, followed by Sh
 abbat table rituals (kiddush and motzi blessings) and dessert. Invite frie
 nds!\n\nRSVP by Wednesday of each week at tbanashua.org or (603) 883-8184.
  No RSVP necessary for services.
DTSTART;TZID=America/New_York:20180803T173000
DTEND;TZID=America/New_York:20180803T200000
END:VEVENT
END:VCALENDAR
