BEGIN:VCALENDAR
PRODID:-//eluceo/ical//2.0/EN
VERSION:2.0
CALSCALE:GREGORIAN
BEGIN:VEVENT
UID:9bb3abbe902f14bb7886340b16004fde
DTSTAMP:20260422T033034Z
SUMMARY:Becoming a Restorative Community
DESCRIPTION:Jewish Federation of New Hampshire\nCommunity Calendar\nhttps:/
 /jewishnh.org/community-calendar/becoming-a-restorative-community-16789996
 94\n\nBecoming a Restorative Community\nAlumni Center - Norma Walker Hall 
 (Keene State College)\nThursday\, April 13\, 2023 · 11:00 a.m. - 1:30 p.m
 .\n\nRestorative justice is a range of community-based practices that aim 
 to cultivate justice\, healing\, and peacebuilding. This special event inv
 ites local youth\, residents\, leaders\, and others to learn more about wh
 at restorative justice is and imagine how they might integrate this work i
 nto their communities.\n\nThe first part of the event will feature...
DTSTART;TZID=America/New_York:20230413T110000
DTEND;TZID=America/New_York:20230413T133000
END:VEVENT
END:VCALENDAR
