BEGIN:VCALENDAR
PRODID:-//eluceo/ical//2.0/EN
VERSION:2.0
CALSCALE:GREGORIAN
BEGIN:VEVENT
UID:e999cbea4ce0a06802cd55d2b466917c
DTSTAMP:20260424T154155Z
SUMMARY:Bedrock Gardens - Caterpillar Lab & Beekeeping Exhibition
DESCRIPTION:Jewish Federation of New Hampshire\nCommunity Calendar\nhttps:/
 /jewishnh.org/community-calendar/bedrock-gardens---caterpillar-lab--beekee
 ping-exhibition-1689758196\n\nFAMILY EVENT\nHosted by the Etz Hayim Synago
 gue Sisterhood and Men’s Club\nEveryone of all ages is invited to The Ca
 terpillar Lab and beekeeper exhibition at Bedrock Gardens on Sunday Aug 6 
 at 10:00 AM. Cost is $15/pp\, kids under 12 are free. You may bring a picn
 ic lunch or order a boxed lunch in advance for an additional $20 (https://
 www.bedrockgardens.org/food.html). Optional garden tour begins at 1:00 PM.
 \nPlease RSVP by ***July 30*** to Rhonda Madnick at...
DTSTART;TZID=America/New_York:20230806T100000
DTEND;TZID=America/New_York:20230806T140000
END:VEVENT
END:VCALENDAR
