BEGIN:VCALENDAR
PRODID:-//eluceo/ical//2.0/EN
VERSION:2.0
CALSCALE:GREGORIAN
BEGIN:VEVENT
UID:b7300e338a432b5136681fd259ea6827
DTSTAMP:20260424T073947Z
SUMMARY:Beginner Hebrew Class - 8 weeks\, online
DESCRIPTION:Jewish Federation of New Hampshire\nCommunity Calendar\nhttps:/
 /jewishnh.org/community-calendar/beginner-hebrew-class---8-weeks-online-16
 62761159\n\nThis is an 8-week\, online class held via Zoom on Tuesday even
 ings. (No meeting the week of Thanksgiving.) Instructor Kathryn Mulhearn h
 as taught aleph-bet\, Prayerbook and Biblical Hebrew at Temple Israel for 
 15 years.\n\nParticipants must purchase the textbook on their own in time 
 for the first class. Text: Teach Yourself to Read Hebrew (EKS 2015). Purch
 ase from Israel Book Shop. https://www.israelbookshop.com\, approximately 
 $21.00\, including handling.\n\nThe public is encouraged to participa...
DTSTART;TZID=America/New_York:20221011T183000
DTEND;TZID=America/New_York:20221011T193000
END:VEVENT
END:VCALENDAR
