BEGIN:VCALENDAR
PRODID:-//eluceo/ical//2.0/EN
VERSION:2.0
CALSCALE:GREGORIAN
BEGIN:VEVENT
UID:222ffbdf95eafa640764f42201de9a69
DTSTAMP:20260423T062837Z
SUMMARY:Beth Abraham's Chanukkah Community Celebration
DESCRIPTION:Jewish Federation of New Hampshire\nCommunity Calendar\nhttps:/
 /jewishnh.org/community-calendar/beth-abrahams-chanukkah-community-celebra
 tion-1764796061\n\nJoin Beth Abraham for our Chanukkah Community Celebrati
 on! We will have a festive deli dinner with latkes and sufganiot\, candle 
 lighting\, and more! Open to all!Optional suggested donation $18.00 per ad
 ult\, $10.00 per child aged 4-12\, or $50 maximum per family\, kids under 
 3 are free. Please register so we know how many to plan for.
DTSTART;TZID=America/New_York:20251218T170000
DTEND;TZID=America/New_York:20251218T190000
END:VEVENT
END:VCALENDAR
