BEGIN:VCALENDAR
PRODID:-//eluceo/ical//2.0/EN
VERSION:2.0
CALSCALE:GREGORIAN
BEGIN:VEVENT
UID:c8fe642812cf7de94c157a9bb9f451f4
DTSTAMP:20260423T174221Z
SUMMARY:Beth Abraham's Family Shabbat
DESCRIPTION:Jewish Federation of New Hampshire\nCommunity Calendar\nhttps:/
 /jewishnh.org/community-calendar/beth-abrahams-family-shabbat-1764795909\n
 \nJoin Beth Abraham for a Musical Family Shabbat with Cantorial Soloist\, 
 David Rothberg!Open to all!Playtime and snacks will be available from 9:30
  am. Community luncheon to follow services.
DTSTART;TZID=America/New_York:20251213T110000
DTEND;TZID=America/New_York:20251213T120000
END:VEVENT
END:VCALENDAR
