BEGIN:VCALENDAR
PRODID:-//eluceo/ical//2.0/EN
VERSION:2.0
CALSCALE:GREGORIAN
BEGIN:VEVENT
UID:53cc634b08df3e27c6318d656ea86e90
DTSTAMP:20260424T060952Z
SUMMARY:Beth Abraham's Soul Shabbat
DESCRIPTION:Jewish Federation of New Hampshire\nCommunity Calendar\nhttps:/
 /jewishnh.org/community-calendar/beth-abrahams-soul-shabbat-1764795826\n\n
 Join Beth Abraham for an interactive Shabbat experience featuring music\, 
 mindfulness and accessible prayer\, to get in touch with our Jewish souls.
  Open to all!Did you know? Soul Shabbat is a one-hour long musical adapted
  service for adults and older children featuring musical prayers\, interac
 tive discussion and short guided meditations. The service is led by Cantor
 ial Soloist David Rothberg accompanied by his guitar.
DTSTART;TZID=America/New_York:20251213T094500
DTEND;TZID=America/New_York:20251213T104500
END:VEVENT
END:VCALENDAR
