BEGIN:VCALENDAR
PRODID:-//eluceo/ical//2.0/EN
VERSION:2.0
CALSCALE:GREGORIAN
BEGIN:VEVENT
UID:12782cd868c9eb33684fe12ee67edd51
DTSTAMP:20260421T191436Z
SUMMARY:BHC presents - Holocaust and Genocide: from Darkness to Light
DESCRIPTION:Jewish Federation of New Hampshire\nCommunity Calendar\nhttps:/
 /jewishnh.org/community-calendar/bethlehem-holocaust-memorial-service\n\nT
 he Jewish Federation joins the Bethlehem Hebrew Congregation’s Holocaust
  Memorial Program :Holocaust and Genocide: from Darkness to Light \, inclu
 ding the music of pianists\, Marjan Kiepura and Elizabeth Borowsky\, Violi
 nist Boras Traubas\, Poetry by Dr. Judith Felsen and Professor Marjorie Ag
 osin\, and vocalist Noam Wolf.\n\nCandles will be lit by members and honor
 ed guests in memory of the concentration camps as well as stories by child
 ren of survivors. \n\nWe remember other acts of genocide...
DTSTART;TZID=America/New_York:20220501T140000
DTEND;TZID=America/New_York:20220501T165500
END:VEVENT
END:VCALENDAR
