BEGIN:VCALENDAR
PRODID:-//eluceo/ical//2.0/EN
VERSION:2.0
CALSCALE:GREGORIAN
BEGIN:VEVENT
UID:e6319f349cace647e1f72021af5a58ae
DTSTAMP:20260423T063203Z
SUMMARY:Bethlehem Town Chanukiah Lighting
DESCRIPTION:Jewish Federation of New Hampshire\nCommunity Calendar\nhttps:/
 /jewishnh.org/community-calendar/bethlehem-town-chanukiah-lighting-1762826
 938\n\nJoin members of the Bethlehem Hebrew Congregation and the Bethlehem
  community as we light the menorah in front of Town Hall each night. We ga
 ther at 5 pm each evening (4 pm on Friday) from December 14-21.
DTSTART;TZID=America/New_York:20251214T170000
DTEND;TZID=America/New_York:20251214T173000
END:VEVENT
END:VCALENDAR
