BEGIN:VCALENDAR
PRODID:-//eluceo/ical//2.0/EN
VERSION:2.0
CALSCALE:GREGORIAN
BEGIN:VEVENT
UID:a69aaadcd40845e72e8c0811ab21ccef
DTSTAMP:20260422T192655Z
SUMMARY:Beyond "Love the Stranger": The Ethics of Borders and Immigration
DESCRIPTION:Jewish Federation of New Hampshire\nCommunity Calendar\nhttps:/
 /jewishnh.org/community-calendar/beyond-love-the-stranger-the-ethics-of-bo
 rders-and-immigration-1553876180\n\nImmigration policy for the US has alwa
 ys been both a practical and a moral issue. Even practical considerations 
 of commerce and diversity have moral implications.\n\nSo how do we identif
 y and then rank the moral principles that are invoked in debates over immi
 gration policy? How do we know when we should take people in and when we s
 hould concentrate on improving life where they already live?\n\nWe will lo
 ok at contemporary American religious explorations of "who is my brother/s
 ister" and how ...
DTSTART;TZID=America/New_York:20190408T181500
DTEND;TZID=America/New_York:20190408T193000
END:VEVENT
END:VCALENDAR
