BEGIN:VCALENDAR
PRODID:-//eluceo/ical//2.0/EN
VERSION:2.0
CALSCALE:GREGORIAN
BEGIN:VEVENT
UID:b2bb6def93c06bc78611b99ca4abe251
DTSTAMP:20260424T003652Z
SUMMARY:BHC Commemorates Yom Hashoah w/ Holocaust & Genocide From Darkness 
 - Light
DESCRIPTION:Jewish Federation of New Hampshire\nCommunity Calendar\nhttps:/
 /jewishnh.org/community-calendar/bhc-commemorates-yom-hashoah-with-holocau
 st-and-genocide-from-darkness-to-light\n\nThe Bethlehem Hebrew Congregatio
 n will hold its Annual Holocaust Remembrance Service on at 2 p.m.\, Sunday
 \, April 11\, accessible to everyone this year as a Zoom presentation.\n\n
  \n\n\nThe program recalls the tragic losses to the Jewish people during 
 the Holocaust\, including stories of survivors within the congregation and
  North Country community\, with poetry and music.\n\n\n \n\nThe service w
 ill be led by Dr. Judith Felsen and her husband Jack Karp who are children
  of Holocaust survivors a...
DTSTART;TZID=America/New_York:20210411T140000
DTEND;TZID=America/New_York:20210411T160000
END:VEVENT
END:VCALENDAR
