BEGIN:VCALENDAR
PRODID:-//eluceo/ical//2.0/EN
VERSION:2.0
CALSCALE:GREGORIAN
BEGIN:VEVENT
UID:81803ae0b5f9aaa7f2c37a77f927379b
DTSTAMP:20260423T024334Z
SUMMARY:BHC Concert Series: Bernard Rose\, piano and Jia Kim\, cello
DESCRIPTION:Jewish Federation of New Hampshire\nCommunity Calendar\nhttps:/
 /jewishnh.org/community-calendar/bhc-concert-series-bernard-rose-piano-and
 -jia-kim-cello\n\nBernard Rose returns to Sounds in the Sanctuary\n\n \n\
 n\n\n\n\n\n\n\nJuly 15\n\nBernard Rose\, piano and Jia Kim\, cello\n\n5pm 
 in the Sanctuary\n\nProgram includes:\n\nJS Bach D Major Gamba Sonata\, \n
 Argo Part “Spiegel Im Spiegel”\nAmy Beach “Dreaming"\nJohannes Brahm
 s F Major Cello Sonata\n\nThe concert will be dedicated to the memory of l
 ong time Sounds in the Sanctuary supporter Dennis Murphy who passed away i
 n November 2021.\n\n \n\nView full event flyer here\n\n...
DTSTART;TZID=America/New_York:20220715T170000
DTEND;TZID=America/New_York:20220715T190000
END:VEVENT
END:VCALENDAR
