BEGIN:VCALENDAR
PRODID:-//eluceo/ical//2.0/EN
VERSION:2.0
CALSCALE:GREGORIAN
BEGIN:VEVENT
UID:5d7608056900fa696bf43d4a3c28149c
DTSTAMP:20260424T012812Z
SUMMARY:BHC Concert Series: The Varshavski-Shapiro Piano Duo
DESCRIPTION:Jewish Federation of New Hampshire\nCommunity Calendar\nhttps:/
 /jewishnh.org/community-calendar/bhc-concert-series-the-varshavski-shapiro
 -piano-duo\n\nVarshavski-Shapiro Piano Duo look forward to their return to
  the BHC Sanctuary. Photo by Andrew Chiciak\n\n\n\n\n\n\n\n\nJuly 29\n\nTh
 e Varshavski-Shapiro Piano Duo\n\n5pm in the Sanctuary\n\n \n\nPerforming
 \, among other other works\, pieces by F. Mendelssohn\, F. Schubert\, and 
 S. Rachmaninoff. \n\nStanislava and Diana appeared with great acclaim in 
 our 2018 season.\n\n \n\nView full event flyer here\n\nMore info\n\n 
DTSTART;TZID=America/New_York:20220729T170000
DTEND;TZID=America/New_York:20220729T190000
END:VEVENT
END:VCALENDAR
