BEGIN:VCALENDAR
PRODID:-//eluceo/ical//2.0/EN
VERSION:2.0
CALSCALE:GREGORIAN
BEGIN:VEVENT
UID:c86efca39c1439c72e45f60d82710ea0
DTSTAMP:20260423T000415Z
SUMMARY:Bialystok Cemetery Restoration Project
DESCRIPTION:Jewish Federation of New Hampshire\nCommunity Calendar\nhttps:/
 /jewishnh.org/community-calendar/bialystok-cemetery-restoration-project-15
 81445992\n\nBagnowka Cemetery in Bialystok\, Poland was the final resting 
 place for members of the largest Jewish community in Europe. In June 1943\
 , Nazi soldiers destroyed\, knocked over\, and dismantled thousands of hea
 dstones and monuments. Monument bases\, blocks\, obelisks\, and pediments 
 were scattered about.\n\nIn 2015\, volunteers began restoring the cemetery
  with the goal of “righting a wrong to make things whole again.” By th
 e end of 2019\, 170 headstones have been restored to their original condit
 ...
DTSTART;TZID=America/New_York:20200329T100000
DTEND;TZID=America/New_York:20200329T120000
END:VEVENT
END:VCALENDAR
