BEGIN:VCALENDAR
PRODID:-//eluceo/ical//2.0/EN
VERSION:2.0
CALSCALE:GREGORIAN
BEGIN:VEVENT
UID:4bca577b22d4ec9c839c47545f8130f4
DTSTAMP:20260423T103207Z
SUMMARY:Book Talk with Fred Feldman\, author of the new memoir The Story Ke
 eper
DESCRIPTION:Jewish Federation of New Hampshire\nCommunity Calendar\nhttps:/
 /jewishnh.org/community-calendar/book-talk-with-fred-feldman-author-of-the
 -new-memoir-the-story-keeper-1613678839\n\nIn this new memoir\, Fred recou
 nts his family’s experiences before\, during\, and after World War II. A
 fter fleeing from Azerbaijan\, escaping the Soviet Union\, and passing thr
 ough refugee centers in Poland and Austria\, the Feldmans eventually arriv
 ed in the US. Please join us to hear more about one family’s eventful jo
 urney. Register at the Temple Israel website to receive the Zoom link: htt
 ps://templeisraelnh.shulcloud.com/event/book-talk-with-fred-feldman.html
DTSTART;TZID=America/New_York:20210228T110000
DTEND;TZID=America/New_York:20210228T120000
END:VEVENT
END:VCALENDAR
